BEGIN:VCALENDAR
VERSION:2.0
PRODID:-//Šola za hortikulturo in vizualne umetnosti Celje - ECPv6.15.17.1//NONSGML v1.0//EN
CALSCALE:GREGORIAN
METHOD:PUBLISH
X-WR-CALNAME:Šola za hortikulturo in vizualne umetnosti Celje
X-ORIGINAL-URL:https://www.hvu.si
X-WR-CALDESC:Dogodki za Šola za hortikulturo in vizualne umetnosti Celje
REFRESH-INTERVAL;VALUE=DURATION:PT1H
X-Robots-Tag:noindex
X-PUBLISHED-TTL:PT1H
BEGIN:VTIMEZONE
TZID:Europe/Ljubljana
BEGIN:DAYLIGHT
TZOFFSETFROM:+0100
TZOFFSETTO:+0200
TZNAME:CEST
DTSTART:20230326T010000
END:DAYLIGHT
BEGIN:STANDARD
TZOFFSETFROM:+0200
TZOFFSETTO:+0100
TZNAME:CET
DTSTART:20231029T010000
END:STANDARD
BEGIN:DAYLIGHT
TZOFFSETFROM:+0100
TZOFFSETTO:+0200
TZNAME:CEST
DTSTART:20240331T010000
END:DAYLIGHT
BEGIN:STANDARD
TZOFFSETFROM:+0200
TZOFFSETTO:+0100
TZNAME:CET
DTSTART:20241027T010000
END:STANDARD
BEGIN:DAYLIGHT
TZOFFSETFROM:+0100
TZOFFSETTO:+0200
TZNAME:CEST
DTSTART:20250330T010000
END:DAYLIGHT
BEGIN:STANDARD
TZOFFSETFROM:+0200
TZOFFSETTO:+0100
TZNAME:CET
DTSTART:20251026T010000
END:STANDARD
BEGIN:DAYLIGHT
TZOFFSETFROM:+0100
TZOFFSETTO:+0200
TZNAME:CEST
DTSTART:20260329T010000
END:DAYLIGHT
BEGIN:STANDARD
TZOFFSETFROM:+0200
TZOFFSETTO:+0100
TZNAME:CET
DTSTART:20261025T010000
END:STANDARD
END:VTIMEZONE
BEGIN:VEVENT
DTSTART;TZID=Europe/Ljubljana:20250204T163000
DTEND;TZID=Europe/Ljubljana:20250204T180000
DTSTAMP:20260420T193746
CREATED:20241002T073024Z
LAST-MODIFIED:20241003T110338Z
UID:6200-1738686600-1738692000@www.hvu.si
SUMMARY:Kakteje in sočnice za male otroke
DESCRIPTION:Kakteje in sočnice za male otroke (izbor\, sajenje\, cepljenje\, priprava nasadka  …). Torek 4. februar 2025\, 16.30 do 18.00; Izvajalca: Elizabeta Strenčan\, Emil Špes.
URL:https://www.hvu.si/event/kakteje-in-socnice-za-male-otroke-9/
LOCATION:Šola za hortikulturo in vizualne umetnosti Celje\, Ljubljanska cesta 97\, Celje\, 3000\, Slovenija
ATTACH;FMTTYPE=image/jpeg:https://www.hvu.si/wp-content/uploads/2024/10/razstava-astrophytum-2.jpg
END:VEVENT
BEGIN:VEVENT
DTSTART;TZID=Europe/Ljubljana:20250204T163000
DTEND;TZID=Europe/Ljubljana:20250204T180000
DTSTAMP:20260420T193746
CREATED:20241002T072907Z
LAST-MODIFIED:20241002T072907Z
UID:6198-1738686600-1738692000@www.hvu.si
SUMMARY:Strupene okrasne rastline – ali jih poznamo?
DESCRIPTION:Strupene okrasne rastline – ali jih poznamo? (izbor primernih rastlin pri zasaditvi okrasnega vrta). Torek\, 4. februar 2025\, 16.30 do 18.00; Izvajalka: Štefanija Kos Zidar.
URL:https://www.hvu.si/event/strupene-okrasne-rastline-ali-jih-poznamo-4/
LOCATION:Šola za hortikulturo in vizualne umetnosti Celje\, Ljubljanska cesta 97\, Celje\, 3000\, Slovenija
END:VEVENT
BEGIN:VEVENT
DTSTART;TZID=Europe/Ljubljana:20250204T163000
DTEND;TZID=Europe/Ljubljana:20250204T180000
DTSTAMP:20260420T193746
CREATED:20241001T102513Z
LAST-MODIFIED:20241001T103351Z
UID:6195-1738686600-1738692000@www.hvu.si
SUMMARY:Valentinova delavnica in Začetni in nadaljevalni tečaj aranžiranja III
DESCRIPTION:Valentinova delavnica in Začetni in nadaljevalni tečaj aranžiranja III.* (valentinov šopek\, valentinovo darilo\, valentinovo presenečenje …). Torek\, 4. februar 2025\, 16.30 do 18.00 – delavnica je primerna tudi za otroke; Izvajalca: Matjaž Pustoslemšek\, Ana Sotošek.
URL:https://www.hvu.si/event/valentinova-delavnica-in-zacetni-in-nadaljevalni-tecaj-aranziranja-iii/
LOCATION:Šola za hortikulturo in vizualne umetnosti Celje\, Ljubljanska cesta 97\, Celje\, 3000\, Slovenija
END:VEVENT
BEGIN:VEVENT
DTSTART;TZID=Europe/Ljubljana:20250114T163000
DTEND;TZID=Europe/Ljubljana:20250114T180000
DTSTAMP:20260420T193746
CREATED:20241001T101143Z
LAST-MODIFIED:20241003T104702Z
UID:6189-1736872200-1736877600@www.hvu.si
SUMMARY:Medonosne rastline v okolici čebelnjaka
DESCRIPTION:Medonosne rastline v okolici čebelnjaka (izbor\, sajenje in oskrba medonosnih rastlin). Torek\, 14. januar 2025\, 16.30 do 18.00; Izvajalca: Sergej Kos.
URL:https://www.hvu.si/event/medonosne-rastline-v-okolici-cebelnjaka-10/
LOCATION:Šola za hortikulturo in vizualne umetnosti Celje\, Ljubljanska cesta 97\, Celje\, 3000\, Slovenija
ATTACH;FMTTYPE=image/jpeg:https://www.hvu.si/wp-content/uploads/2024/10/P1070365.jpg
END:VEVENT
BEGIN:VEVENT
DTSTART;TZID=Europe/Ljubljana:20250114T163000
DTEND;TZID=Europe/Ljubljana:20250114T180000
DTSTAMP:20260420T193746
CREATED:20241001T101034Z
LAST-MODIFIED:20241001T101034Z
UID:6187-1736872200-1736877600@www.hvu.si
SUMMARY:Zasnova permakulturnega vrta
DESCRIPTION:Zasnova permakulturnega vrta* (zasnova\, izbor primernih rastlin\, združba rastlin po kriterijih – barva\, oblika\, struktura\, lega  …). Torek\, 14. januar 2025\, 16.30 do 18.00 – delavnica je primerna tudi za otroke; Izvajalka: Štefanija Kos Zidar.
URL:https://www.hvu.si/event/zasnova-permakulturnega-vrta-5/
LOCATION:Šola za hortikulturo in vizualne umetnosti Celje\, Ljubljanska cesta 97\, Celje\, 3000\, Slovenija
END:VEVENT
BEGIN:VEVENT
DTSTART;TZID=Europe/Ljubljana:20250114T150000
DTEND;TZID=Europe/Ljubljana:20250114T163000
DTSTAMP:20260420T193746
CREATED:20241001T101322Z
LAST-MODIFIED:20241003T104450Z
UID:6191-1736866800-1736872200@www.hvu.si
SUMMARY:Fotografska delavnica »Štirje letni časi – zima
DESCRIPTION:Fotografska delavnica »Štirje letni časi – zima«. Torek\, 14. januar 2025\, 15.00 do 16.30; Izvajalec: Mitja Zupanc.
URL:https://www.hvu.si/event/fotografska-delavnica-stirje-letni-casi-zima-3/
LOCATION:Šola za hortikulturo in vizualne umetnosti Celje\, Ljubljanska cesta 97\, Celje\, 3000\, Slovenija
ATTACH;FMTTYPE=image/jpeg:https://www.hvu.si/wp-content/uploads/2024/10/1639032576454.jpg
END:VEVENT
BEGIN:VEVENT
DTSTART;TZID=Europe/Ljubljana:20241203T163000
DTEND;TZID=Europe/Ljubljana:20241203T180000
DTSTAMP:20260420T193746
CREATED:20241001T100428Z
LAST-MODIFIED:20241002T113022Z
UID:6185-1733243400-1733248800@www.hvu.si
SUMMARY:Panjske končnice v ljudskem izročilu
DESCRIPTION:Panjske končnice v ljudskem izročilu (risanje na panjske končnice). Torek\, 3. december 2024\, 16.30 do 18.00; Izvajalka: Danica Korošec.
URL:https://www.hvu.si/event/panjske-koncnice-v-ljudskem-izrocilu-5/
LOCATION:Šola za hortikulturo in vizualne umetnosti Celje\, Ljubljanska cesta 97\, Celje\, 3000\, Slovenija
ATTACH;FMTTYPE=image/jpeg:https://www.hvu.si/wp-content/uploads/2024/10/IMG_20190401_140019-scaled.jpg
END:VEVENT
BEGIN:VEVENT
DTSTART;TZID=Europe/Ljubljana:20241203T163000
DTEND;TZID=Europe/Ljubljana:20241203T180000
DTSTAMP:20260420T193746
CREATED:20241001T100252Z
LAST-MODIFIED:20241003T102716Z
UID:6183-1733243400-1733248800@www.hvu.si
SUMMARY:Božično – novoletna delavnica
DESCRIPTION:Božično – novoletna delavnica* (dekor vhoda hiše\, praznični namizni aranžma\, dekoracija prazničnega darila\, simbolika zimskega cvetja in zelenja). Torek\, 3. december 2024\, 16.30 do 18.00 – delavnica je primerna tudi za otroke; Izvajalka: Ana Sotošek.
URL:https://www.hvu.si/event/bozicno-novoletna-delavnica-5/
LOCATION:Šola za hortikulturo in vizualne umetnosti Celje\, Ljubljanska cesta 97\, Celje\, 3000\, Slovenija
ATTACH;FMTTYPE=image/jpeg:https://www.hvu.si/wp-content/uploads/2024/10/pomanjsana_slike-hodnik-2020.jpg
END:VEVENT
BEGIN:VEVENT
DTSTART;TZID=Europe/Ljubljana:20241126T163000
DTEND;TZID=Europe/Ljubljana:20241126T180000
DTSTAMP:20260420T193746
CREATED:20241001T100008Z
LAST-MODIFIED:20241001T100059Z
UID:6181-1732638600-1732644000@www.hvu.si
SUMMARY:Adventna delavnica in Začetni in nadaljevalni tečaj aranžiranja in oblikovanja s cvetjem in zelenjem II
DESCRIPTION:Adventna delavnica in Začetni in nadaljevalni tečaj aranžiranja in oblikovanja s cvetjem in zelenjem II.* (adventni venec\, miklavževa šiba\, barbarine vejice\, sezonska voščilnica …). Torek\, 26. november 2024\, 16.30 do 18.00 – delavnica je  primerna tudi za otroke; Izvajalka: Veronika Cvetko.
URL:https://www.hvu.si/event/adventna-delavnica-in-zacetni-in-nadaljevalni-tecaj-aranziranja-in-oblikovanja-s-cvetjem-in-zelenjem-ii/
LOCATION:Šola za hortikulturo in vizualne umetnosti Celje\, Ljubljanska cesta 97\, Celje\, 3000\, Slovenija
END:VEVENT
BEGIN:VEVENT
DTSTART;TZID=Europe/Ljubljana:20241105T163000
DTEND;TZID=Europe/Ljubljana:20241105T180000
DTSTAMP:20260420T193746
CREATED:20241001T095411Z
LAST-MODIFIED:20241002T112229Z
UID:6175-1730824200-1730829600@www.hvu.si
SUMMARY:Kakteje in sočnice za male otroke
DESCRIPTION:Kakteje in sočnice za male otroke (izbor\, sajenje\, cepljenje\, priprava nasadka …). Torek\, 5. november 2024\, 16.30 do 18.00; Izvajalca: Elizabeta Strenčan\, Emil Špes.
URL:https://www.hvu.si/event/kakteje-in-socnice-za-male-otroke-8/
LOCATION:Šola za hortikulturo in vizualne umetnosti Celje\, Ljubljanska cesta 97\, Celje\, 3000\, Slovenija
ATTACH;FMTTYPE=image/jpeg:https://www.hvu.si/wp-content/uploads/2024/10/razstava-astrophytum.jpg
END:VEVENT
BEGIN:VEVENT
DTSTART;TZID=Europe/Ljubljana:20241105T163000
DTEND;TZID=Europe/Ljubljana:20241105T180000
DTSTAMP:20260420T193746
CREATED:20241001T094831Z
LAST-MODIFIED:20241002T111749Z
UID:6173-1730824200-1730829600@www.hvu.si
SUMMARY:Medonosne rastline v okolici čebelnjaka
DESCRIPTION:Medonosne rastline v okolici čebelnjaka (izbor\, sajenje in oskrba medonosnih rastlin). Torek\, 5. november 2024\, 16.30 do 18.00 ure; Izvajalec: Sergej Kos.
URL:https://www.hvu.si/event/medonosne-rastline-v-okolici-cebelnjaka-9/
LOCATION:Šola za hortikulturo in vizualne umetnosti Celje\, Ljubljanska cesta 97\, Celje\, 3000\, Slovenija
ATTACH;FMTTYPE=image/jpeg:https://www.hvu.si/wp-content/uploads/2024/10/logo_dansajenja_slo.jpg
END:VEVENT
BEGIN:VEVENT
DTSTART;TZID=Europe/Ljubljana:20241105T160000
DTEND;TZID=Europe/Ljubljana:20241105T173000
DTSTAMP:20260420T193746
CREATED:20241001T095520Z
LAST-MODIFIED:20241002T111425Z
UID:6177-1730822400-1730827800@www.hvu.si
SUMMARY:Fotografska delavnica »Štirje letni časi – jesen
DESCRIPTION:Fotografska delavnica »Štirje letni časi – jesen«. Torek\, 5. november 2024\, 16.00 do 17.30; Izvajalec: Mitja Zupanc.
URL:https://www.hvu.si/event/fotografska-delavnica-stirje-letni-casi-jesen-3/
LOCATION:Šola za hortikulturo in vizualne umetnosti Celje\, Ljubljanska cesta 97\, Celje\, 3000\, Slovenija
ATTACH;FMTTYPE=image/jpeg:https://www.hvu.si/wp-content/uploads/2024/10/IMG_20200620_102204-–-kopija-scaled.jpg
END:VEVENT
BEGIN:VEVENT
DTSTART;VALUE=DATE:20241010
DTEND;VALUE=DATE:20241012
DTSTAMP:20260420T193746
CREATED:20241002T080638Z
LAST-MODIFIED:20241002T081233Z
UID:6232-1728518400-1728691199@www.hvu.si
SUMMARY:Strokovne ekskurzije dijakov
DESCRIPTION:Vsi dijaki oddelkov\, (razen 1. letnikov) bodo imeli strokovni ekskurziji v Trst in Slovensko primorje ter Salzburg.
URL:https://www.hvu.si/event/strokovne-ekskurzije-dijakov/
LOCATION:Trst
ATTACH;FMTTYPE=image/jpeg:https://www.hvu.si/wp-content/uploads/2024/10/1630534473132.jpg
END:VEVENT
BEGIN:VEVENT
DTSTART;VALUE=DATE:20241010
DTEND;VALUE=DATE:20241012
DTSTAMP:20260420T193746
CREATED:20241002T080243Z
LAST-MODIFIED:20241002T082120Z
UID:6230-1728518400-1728691199@www.hvu.si
SUMMARY:Spoznavna dneva dijakov 1. letnikov
DESCRIPTION:Na šoli bosta organizirana spoznavna dneva dijakov 1. letnikov. V sklopu dveh dni bodo potekale bodo delavnice\, peka kostanja\, druženje\, igre\, spanje v šoli…
URL:https://www.hvu.si/event/spoznavna-dneva-dijakov-1-letnikov/
LOCATION:Šola za hortikulturo in vizualne umetnosti Celje\, Ljubljanska cesta 97\, Celje\, 3000\, Slovenija
ATTACH;FMTTYPE=image/jpeg:https://www.hvu.si/wp-content/uploads/2024/10/SHVU.jpg
END:VEVENT
BEGIN:VEVENT
DTSTART;TZID=Europe/Ljubljana:20241001T163000
DTEND;TZID=Europe/Ljubljana:20241001T180000
DTSTAMP:20260420T193746
CREATED:20241001T093157Z
LAST-MODIFIED:20241001T102359Z
UID:6171-1727800200-1727805600@www.hvu.si
SUMMARY:Sonaravno jesensko urejanje okrasnega vrta
DESCRIPTION:Sonaravno jesensko urejanje okrasnega vrta* ( načrtovanje gredic\, vzimovanje vrtnic\, trajnic in ostalih okrasnih rastlin\, dosajevanje okrasnih rastlin). Torek\, 1. oktober 2024\, 16.30 do 18.00 – delavnica je primerna tudi za otroke; Izvajalca: Emil Špes\, Štefanija Kos Zidar.
URL:https://www.hvu.si/event/sonaravno-jesensko-urejanje-okrasnega-vrta-3/
LOCATION:Šola za hortikulturo in vizualne umetnosti Celje\, Ljubljanska cesta 97\, Celje\, 3000\, Slovenija
ATTACH;FMTTYPE=image/jpeg:https://www.hvu.si/wp-content/uploads/2024/10/Sonaravni-vrtovi-so-zgrajeni-iz-recikliranih-materialov.jpg
END:VEVENT
BEGIN:VEVENT
DTSTART;TZID=Europe/Ljubljana:20241001T163000
DTEND;TZID=Europe/Ljubljana:20241001T180000
DTSTAMP:20260420T193746
CREATED:20241001T093008Z
LAST-MODIFIED:20241001T102227Z
UID:6169-1727800200-1727805600@www.hvu.si
SUMMARY:Začetni in nadaljevalni tečaj aranžiranja in oblikovanja s cvetjem in zelenjem I
DESCRIPTION:Začetni in nadaljevalni tečaj aranžiranja in oblikovanja s cvetjem in zelenjem I. (nagrobni aranžma\, dekoracija posameznega cveta). Torek\, 1. oktober 2024\, 16.30 do 18.00; Izvajalca: Matjaž Pustoslemšek\, Ana Sotošek.
URL:https://www.hvu.si/event/zacetni-in-nadaljevalni-tecaj-aranziranja-in-oblikovanja-s-cvetjem-in-zelenjem-i/
LOCATION:Šola za hortikulturo in vizualne umetnosti Celje\, Ljubljanska cesta 97\, Celje\, 3000\, Slovenija
ATTACH;FMTTYPE=image/jpeg:https://www.hvu.si/wp-content/uploads/2024/10/mala-Mojca-tecaj.jpg
END:VEVENT
BEGIN:VEVENT
DTSTART;VALUE=DATE:20240925
DTEND;VALUE=DATE:20240926
DTSTAMP:20260420T193746
CREATED:20241002T080904Z
LAST-MODIFIED:20241002T080904Z
UID:6236-1727222400-1727308799@www.hvu.si
SUMMARY:1. Športni dan
DESCRIPTION:Pohodi po Celju in okolici.
URL:https://www.hvu.si/event/1-sportni-dan-2/
LOCATION:Celje in okolica
END:VEVENT
BEGIN:VEVENT
DTSTART;TZID=Europe/Ljubljana:20240604T160000
DTEND;TZID=Europe/Ljubljana:20240604T180000
DTSTAMP:20260420T193746
CREATED:20240117T120920Z
LAST-MODIFIED:20240117T120920Z
UID:5576-1717516800-1717524000@www.hvu.si
SUMMARY:Delavnice in tečaji
DESCRIPTION:Začetni in nadaljevalni tečaj aranžiranja VI. (dekoracija prostora ob različnih dogodkih …). Torek\, 4. junij 2024\, 16.30 do 18.00 delavnica je primerna tudi za otroke; Izvajalec: Matjaž Pustoslemšek\, Ana Sotošek.\nŽiva meja – obrezovanje* (izbor rastlin\, sajenje\, obrezovanje …). Torek\,  4. junij 2024\, 16.30 do 18.00; Izvajalec: Emil Špes.\nŽivim zdravo – smernice za pridelovanje varne hrane* (biotično varstvo rastlin in uporaba EM tehnologije v hortikulturi). Torek\,  junij 2024\, 16.30 do 18.00; Izvajalki: Anja Žužej Gobec\, Andreja Gerčer.\nFotografska delavnica »Štirje letni časi – poletje«. Torek\, 4. junij 2024\, 16.00 do 17.00; Izvajalec: Mitja Zupanc.\n\n 
URL:https://www.hvu.si/event/delavnice-in-tecaji-6/
END:VEVENT
BEGIN:VEVENT
DTSTART;VALUE=DATE:20240515
DTEND;VALUE=DATE:20240516
DTSTAMP:20260420T193746
CREATED:20240117T120605Z
LAST-MODIFIED:20240117T120657Z
UID:5574-1715731200-1715817599@www.hvu.si
SUMMARY:XXIV. Dan špargljev
DESCRIPTION:Dan špargljev 2023: sreda\, 15. maj 2024.
URL:https://www.hvu.si/event/xxiv-dan-spargljev/
END:VEVENT
BEGIN:VEVENT
DTSTART;TZID=Europe/Ljubljana:20240507T163000
DTEND;TZID=Europe/Ljubljana:20240507T180000
DTSTAMP:20260420T193746
CREATED:20240117T120245Z
LAST-MODIFIED:20240117T120245Z
UID:5570-1715099400-1715104800@www.hvu.si
SUMMARY:Delavnice in tečaji
DESCRIPTION:Začetni in nadaljevalni tečaj aranžiranja V. (dekoracija družinskih dogodkov – poroka\, birma\, obhajilo\, darila …). Torek\, 7. maj 2024\, 16.30 do 18.00; Izvajalec: Matjaž Pustoslemšek\, Ana Sotošek.\n\n\nZeliščni vrt* (zasnova in izbor rastlin\, zasaditev in sezonska oskrba). Torek\, 7.  maj 2024\, 16.30 do 18.00 – delavnica je primerna tudi za otroke; Izvajalka: Katja Funtek.
URL:https://www.hvu.si/event/delavnice-in-tecaji-5/
END:VEVENT
BEGIN:VEVENT
DTSTART;TZID=Europe/Ljubljana:20240425T080000
DTEND;TZID=Europe/Ljubljana:20240425T100000
DTSTAMP:20260420T193746
CREATED:20240423T061547Z
LAST-MODIFIED:20240423T061547Z
UID:5749-1714032000-1714039200@www.hvu.si
SUMMARY:Kaj fotografiramo na nebu
DESCRIPTION:Predavanje za dijake programa fotografski tehnik. \nNaslov predavanja: “Kaj fotografiramo na nebu” – Robert Gajšek.
URL:https://www.hvu.si/event/kaj-fotografiramo-na-nebu/
LOCATION:Šola za hortikulturo in vizualne umetnosti Celje\, Ljubljanska cesta 97\, Celje\, 3000\, Slovenija
END:VEVENT
BEGIN:VEVENT
DTSTART;TZID=Europe/Ljubljana:20240416T170000
DTEND;TZID=Europe/Ljubljana:20240416T190000
DTSTAMP:20260420T193746
CREATED:20240415T073352Z
LAST-MODIFIED:20240415T073606Z
UID:5742-1713286800-1713294000@www.hvu.si
SUMMARY:Kako s kristali okrepiti svoje zdravje
DESCRIPTION:Marjan je ljubitelj kristalov\, s katerimi izvaja kristalne terapije in meditacije. Ko v meditacije vključi kristalne posode\, glasbene vilice in druge instrumente\, so doživetja bolj poglobljena\, večja je tudi moč sproščanja. Uporablja različne terapevtske tehnike. Z nihalom izvaja energijsko detekcijo telesa\, ki da veliko odgovorov v kakšnem stanju je energijsko in seveda fizično telo. Pri doseganju splošnega ravnovesja in dobrega počutja\, je vselej potrebno poskrbeti še za telo\, zato je pomembno kaj vse sami naredimo za zdravje telesa.    \nInformacije in prijave (SMS) na 041 641 203. \nZaželeni so prostovoljni prispevki.
URL:https://www.hvu.si/event/kako-s-kristali-okrepiti-svoje-zdravje/
LOCATION:Šola za hortikulturo in vizualne umetnosti Celje\, Ljubljanska cesta 97\, Celje\, 3000\, Slovenija
END:VEVENT
BEGIN:VEVENT
DTSTART;VALUE=DATE:20240412
DTEND;VALUE=DATE:20240413
DTSTAMP:20260420T193746
CREATED:20240415T073208Z
LAST-MODIFIED:20240415T073208Z
UID:5740-1712880000-1712966399@www.hvu.si
SUMMARY:Čistilna akcija 2024
DESCRIPTION:
URL:https://www.hvu.si/event/cistilna-akcija-2024/
END:VEVENT
BEGIN:VEVENT
DTSTART;TZID=Europe/Ljubljana:20240410T170000
DTEND;TZID=Europe/Ljubljana:20240410T190000
DTSTAMP:20260420T193746
CREATED:20240312T193056Z
LAST-MODIFIED:20240312T193404Z
UID:5667-1712768400-1712775600@www.hvu.si
SUMMARY:100. obletnica Kmetijskega tečaja
DESCRIPTION:Društvo Ajda Štajerska: 100. obletnica Kmetijskega tečaja\, Vesna Forstnerič Lesjak
URL:https://www.hvu.si/event/100-obletnica-kmetijskega-tecaja/
LOCATION:Šola za hortikulturo in vizualne umetnosti Celje\, Ljubljanska cesta 97\, Celje\, 3000\, Slovenija
ATTACH;FMTTYPE=image/jpeg:https://www.hvu.si/wp-content/uploads/2024/03/Neimenovano.jpg
END:VEVENT
BEGIN:VEVENT
DTSTART;TZID=Europe/Ljubljana:20240402T160000
DTEND;TZID=Europe/Ljubljana:20240402T183000
DTSTAMP:20260420T193746
CREATED:20240117T120112Z
LAST-MODIFIED:20240117T120423Z
UID:5568-1712073600-1712082600@www.hvu.si
SUMMARY:Delavnice in tečaji
DESCRIPTION:Balkonske cvetje in zelenje – trendi v zasaditvah pomlad 2024* (izbor rastlin\, novosti v zasajanju\, oskrba balkonskega cvetja …). Torek\, 2. april 2024\, 16.30 do 18.00. Izvajalka: Štefanija Kos Zidar.\nNega vrtne trate (košnja\, gnojenje\, pleveli\, obnova …). Torek\, 2. april 2023\, 16.30 do 18.00; Izvajalec: Emil Špes.\nVrtnice in žive meje (izbor rastlin\, sajenje\, obrezovanje\, dognojevanje …)\, Torek\, 2. april 2024\, 16.30 do 18.00. Izvajalka: Romana Špes.\n\n\n Fotografska delavnica »Štirje letni časi – pomlad«. Torek\, 2. april 2024\, 16.00 do 17.30; Izvajalec: Mitja Zupanc.
URL:https://www.hvu.si/event/delavnice-in-tecaji-4/
END:VEVENT
BEGIN:VEVENT
DTSTART;VALUE=DATE:20240320
DTEND;VALUE=DATE:20240321
DTSTAMP:20260420T193746
CREATED:20240313T182943Z
LAST-MODIFIED:20240313T182943Z
UID:5670-1710892800-1710979199@www.hvu.si
SUMMARY:Obisk delegacije ravnateljev iz Francije
DESCRIPTION:Obisk delegacije ravnateljev iz Francije. Različna tematika med drugim tudi tema dijaki s posebnimi potrebami – inkluzija …
URL:https://www.hvu.si/event/obisk-delegacije-ravnateljev-iz-francije/
LOCATION:Šola za hortikulturo in vizualne umetnosti Celje\, Ljubljanska cesta 97\, Celje\, 3000\, Slovenija
END:VEVENT
BEGIN:VEVENT
DTSTART;TZID=Europe/Ljubljana:20240319T163000
DTEND;TZID=Europe/Ljubljana:20240319T180000
DTSTAMP:20260420T193746
CREATED:20240117T115905Z
LAST-MODIFIED:20240117T115905Z
UID:5566-1710865800-1710871200@www.hvu.si
SUMMARY:Delavnice in tečaji
DESCRIPTION:Velikonočno spomladanska delavnica* (izdelovanje butar\, dekor vhoda hiše\, velikonočni aranžma …). Torek\, 19. marec 2024\, 16.30 do 18.00 – delavnica je primerna tudi za otroke; Izvajalka: Veronika Cvetko.
URL:https://www.hvu.si/event/delavnice-in-tecaji-3/
END:VEVENT
BEGIN:VEVENT
DTSTART;TZID=Europe/Ljubljana:20240312T170000
DTEND;TZID=Europe/Ljubljana:20240312T190000
DTSTAMP:20260420T193746
CREATED:20240307T094833Z
LAST-MODIFIED:20240307T095019Z
UID:5663-1710262800-1710270000@www.hvu.si
SUMMARY:Razmnoževanje zelnatih rastlin
DESCRIPTION:Vabljeni na predavanje z delavnico »Razmnoževanje zelnatih rastlin«\, ki bo v torek\, 12. marca 2024 ob 17.00 uri na Šoli za hortikulturo in vizualne umetnosti Celje.  \nTe zanima na katere načine razmnožujemo zelnate rastline. Pridi v rastlinjak ŠHVU\, kjer nas bo predavateljica Katja Funtek teoretično in tudi praktično naučila različnih tehnik. Število mest je omejeno na 16. Informacije in prijave (SMS) na 041 641 203. Zaželeni so prostovoljni prispevki.                         \nVljudno vabljeni!
URL:https://www.hvu.si/event/razmnozevanje-zelnatih-rastlin/
LOCATION:Šola za hortikulturo in vizualne umetnosti Celje\, Ljubljanska cesta 97\, Celje\, 3000\, Slovenija
END:VEVENT
BEGIN:VEVENT
DTSTART;TZID=Europe/Ljubljana:20240306T170000
DTEND;TZID=Europe/Ljubljana:20240306T190000
DTSTAMP:20260420T193746
CREATED:20240206T134719Z
LAST-MODIFIED:20240206T134800Z
UID:5607-1709744400-1709751600@www.hvu.si
SUMMARY:Naredimo zemljo zopet rodovitno
DESCRIPTION:Društvo Ajda Štajerska; predavanje: Naredimo zemljo zopet rodovitno\, Jana Kadunc.
URL:https://www.hvu.si/event/naredimo-zemljo-zopet-rodovitno/
LOCATION:Šola za hortikulturo in vizualne umetnosti Celje\, Ljubljanska cesta 97\, Celje\, 3000\, Slovenija
END:VEVENT
BEGIN:VEVENT
DTSTART;TZID=Europe/Ljubljana:20240305T163000
DTEND;TZID=Europe/Ljubljana:20240305T180000
DTSTAMP:20260420T193746
CREATED:20240117T115450Z
LAST-MODIFIED:20240117T115643Z
UID:5563-1709656200-1709661600@www.hvu.si
SUMMARY:Delavnice in tečaji
DESCRIPTION:Okrasni obhišni vrt (spomladanska oskrba – obrezovanje vrtnic in ostale drevnine\, dosajevanje\, nega vrtne trate …) Torek\, 5. marec 2024\, 16.30 do 18.00; Izvajalca: Emil Špes\, Štefanija Kos Zidar.\nSonaravni sadni vrt* (spomladanska dela – obrezovanje\, varstvo rastlin\, zasnova sadnega vrta z izborom primernih sadnih vrst …). Torek\,  5. marec 2024\, 16.30 do 18.00 – delavnica je primerna tudi za otroke. Izvajalka: Romana Špes.
URL:https://www.hvu.si/event/delavnice-in-tecaji-2/
END:VEVENT
END:VCALENDAR