BEGIN:VCALENDAR
VERSION:2.0
PRODID:-//Šola za hortikulturo in vizualne umetnosti Celje - ECPv6.15.17.1//NONSGML v1.0//EN
CALSCALE:GREGORIAN
METHOD:PUBLISH
X-ORIGINAL-URL:https://www.hvu.si
X-WR-CALDESC:Dogodki za Šola za hortikulturo in vizualne umetnosti Celje
REFRESH-INTERVAL;VALUE=DURATION:PT1H
X-Robots-Tag:noindex
X-PUBLISHED-TTL:PT1H
BEGIN:VTIMEZONE
TZID:Europe/Ljubljana
BEGIN:DAYLIGHT
TZOFFSETFROM:+0100
TZOFFSETTO:+0200
TZNAME:CEST
DTSTART:20250330T010000
END:DAYLIGHT
BEGIN:STANDARD
TZOFFSETFROM:+0200
TZOFFSETTO:+0100
TZNAME:CET
DTSTART:20251026T010000
END:STANDARD
BEGIN:DAYLIGHT
TZOFFSETFROM:+0100
TZOFFSETTO:+0200
TZNAME:CEST
DTSTART:20260329T010000
END:DAYLIGHT
BEGIN:STANDARD
TZOFFSETFROM:+0200
TZOFFSETTO:+0100
TZNAME:CET
DTSTART:20261025T010000
END:STANDARD
BEGIN:DAYLIGHT
TZOFFSETFROM:+0100
TZOFFSETTO:+0200
TZNAME:CEST
DTSTART:20270328T010000
END:DAYLIGHT
BEGIN:STANDARD
TZOFFSETFROM:+0200
TZOFFSETTO:+0100
TZNAME:CET
DTSTART:20271031T010000
END:STANDARD
END:VTIMEZONE
BEGIN:VEVENT
DTSTART;TZID=Europe/Ljubljana:20260505T163000
DTEND;TZID=Europe/Ljubljana:20260505T180000
DTSTAMP:20260419T231604
CREATED:20251022T103955Z
LAST-MODIFIED:20251023T081332Z
UID:7175-1777998600-1778004000@www.hvu.si
SUMMARY:Začetni in nadaljevalni tečaj aranžiranja
DESCRIPTION:Začetni in nadaljevalni tečaj aranžiranja V. (dekoracija družinskih dogodkov – poroka\, birma\, obhajilo\, darila …). Torek\, 5. maj 2026\, 16.30 do 18.00; Izvajalec: Matjaž Pustoslemšek\, Ana Sotošek.
URL:https://www.hvu.si/event/zacetni-in-nadaljevalni-tecaj-aranziranja-5/
LOCATION:Šola za hortikulturo in vizualne umetnosti Celje\, Ljubljanska cesta 97\, Celje\, 3000\, Slovenija
ATTACH;FMTTYPE=image/jpeg:https://www.hvu.si/wp-content/uploads/2025/10/HVU-1-1.jpg
END:VEVENT
BEGIN:VEVENT
DTSTART;TZID=Europe/Ljubljana:20260505T163000
DTEND;TZID=Europe/Ljubljana:20260505T180000
DTSTAMP:20260419T231604
CREATED:20251022T104630Z
LAST-MODIFIED:20251023T090605Z
UID:7177-1777998600-1778004000@www.hvu.si
SUMMARY:Zeliščni vrt
DESCRIPTION:Zeliščni vrt* (zasnova in izbor rastlin\, zasaditev in sezonska oskrba). Torek\, 5. maj 2026\, 16.30 do 18.00 – delavnica je primerna tudi za otroke; Izvajalka: Katja Funtek
URL:https://www.hvu.si/event/zeliscni-vrt-3/
LOCATION:Šola za hortikulturo in vizualne umetnosti Celje\, Ljubljanska cesta 97\, Celje\, 3000\, Slovenija
ATTACH;FMTTYPE=image/jpeg:https://www.hvu.si/wp-content/uploads/2025/10/zeliscni-vrt-scaled.jpg
END:VEVENT
BEGIN:VEVENT
DTSTART;VALUE=DATE:20260513
DTEND;VALUE=DATE:20260514
DTSTAMP:20260419T231604
CREATED:20251022T104849Z
LAST-MODIFIED:20260323T090707Z
UID:7179-1778630400-1778716799@www.hvu.si
SUMMARY:XXVI. Dan špargljev 2026 in otvoritev učnega čebelnjaka
DESCRIPTION:XXVI. Dan špargljev 2026*: sreda\, 13. maj 2026.
URL:https://www.hvu.si/event/xxvi-dan-spargljev-2026/
LOCATION:Šola za hortikulturo in vizualne umetnosti Celje\, Ljubljanska cesta 97\, Celje\, 3000\, Slovenija
ATTACH;FMTTYPE=image/jpeg:https://www.hvu.si/wp-content/uploads/2025/10/Sparglji1-scaled.jpg
END:VEVENT
END:VCALENDAR