BEGIN:VCALENDAR
VERSION:2.0
PRODID:-//Šola za hortikulturo in vizualne umetnosti Celje - ECPv6.15.17.1//NONSGML v1.0//EN
CALSCALE:GREGORIAN
METHOD:PUBLISH
X-WR-CALNAME:Šola za hortikulturo in vizualne umetnosti Celje
X-ORIGINAL-URL:https://www.hvu.si
X-WR-CALDESC:Dogodki za Šola za hortikulturo in vizualne umetnosti Celje
REFRESH-INTERVAL;VALUE=DURATION:PT1H
X-Robots-Tag:noindex
X-PUBLISHED-TTL:PT1H
BEGIN:VTIMEZONE
TZID:Europe/Ljubljana
BEGIN:DAYLIGHT
TZOFFSETFROM:+0100
TZOFFSETTO:+0200
TZNAME:CEST
DTSTART:20250330T010000
END:DAYLIGHT
BEGIN:STANDARD
TZOFFSETFROM:+0200
TZOFFSETTO:+0100
TZNAME:CET
DTSTART:20251026T010000
END:STANDARD
BEGIN:DAYLIGHT
TZOFFSETFROM:+0100
TZOFFSETTO:+0200
TZNAME:CEST
DTSTART:20260329T010000
END:DAYLIGHT
BEGIN:STANDARD
TZOFFSETFROM:+0200
TZOFFSETTO:+0100
TZNAME:CET
DTSTART:20261025T010000
END:STANDARD
BEGIN:DAYLIGHT
TZOFFSETFROM:+0100
TZOFFSETTO:+0200
TZNAME:CEST
DTSTART:20270328T010000
END:DAYLIGHT
BEGIN:STANDARD
TZOFFSETFROM:+0200
TZOFFSETTO:+0100
TZNAME:CET
DTSTART:20271031T010000
END:STANDARD
END:VTIMEZONE
BEGIN:VEVENT
DTSTART;TZID=Europe/Ljubljana:20260303T163000
DTEND;TZID=Europe/Ljubljana:20260303T180000
DTSTAMP:20260419T225704
CREATED:20251003T104402Z
LAST-MODIFIED:20251023T072215Z
UID:7053-1772555400-1772560800@www.hvu.si
SUMMARY:Okrasni obhišni vrt
DESCRIPTION:Okrasni obhišni vrt (spomladanska oskrba – obrezovanje vrtnic in ostale drevnine\, dosajevanje\, nega vrtne trate …) Torek\, 3. marec 2026\, 16.30 do 18.00; Izvajalec: Emil Špes
URL:https://www.hvu.si/event/okrasni-obhisni-vrt-6/
LOCATION:Šola za hortikulturo in vizualne umetnosti Celje\, Ljubljanska cesta 97\, Celje\, 3000\, Slovenija
ATTACH;FMTTYPE=image/jpeg:https://www.hvu.si/wp-content/uploads/2025/10/HVU-3.jpg
END:VEVENT
BEGIN:VEVENT
DTSTART;TZID=Europe/Ljubljana:20260303T163000
DTEND;TZID=Europe/Ljubljana:20260303T180000
DTSTAMP:20260419T225704
CREATED:20251003T104520Z
LAST-MODIFIED:20251023T072256Z
UID:7055-1772555400-1772560800@www.hvu.si
SUMMARY:Sonaravni sadni vrt
DESCRIPTION:Sonaravni sadni vrt* (spomladanska dela – obrezovanje\, varstvo rastlin\, zasnova sadnega vrta z izborom primernih sadnih vrst …). Torek\,  3. marec 2026\, 16.30 do 18.00 – delavnica je primerna tudi za otroke. Izvajalka: Romana Špes.
URL:https://www.hvu.si/event/sonaravni-sadni-vrt-6/
LOCATION:Šola za hortikulturo in vizualne umetnosti Celje\, Ljubljanska cesta 97\, Celje\, 3000\, Slovenija
ATTACH;FMTTYPE=image/jpeg:https://www.hvu.si/wp-content/uploads/2025/10/20230307_171929-scaled.jpg
END:VEVENT
BEGIN:VEVENT
DTSTART;TZID=Europe/Ljubljana:20260303T170000
DTEND;TZID=Europe/Ljubljana:20260303T190000
DTSTAMP:20260419T225704
CREATED:20260219T073038Z
LAST-MODIFIED:20260219T073048Z
UID:7603-1772557200-1772564400@www.hvu.si
SUMMARY:Oskrba čebeljih družin skozi leto
DESCRIPTION:V torek\, 3. marca 2026\, ob 17.00\, vabimo na predavanje za čebelarje na temo: “Oskrba čebeljih družin skozi leto”.
URL:https://www.hvu.si/event/oskrba-cebeljih-druzin-skozi-leto/
LOCATION:Šola za hortikulturo in vizualne umetnosti Celje\, Ljubljanska cesta 97\, Celje\, 3000\, Slovenija
ATTACH;FMTTYPE=image/jpeg:https://www.hvu.si/wp-content/uploads/2025/10/IMG_20190401_140019-scaled.jpg
END:VEVENT
BEGIN:VEVENT
DTSTART;VALUE=DATE:20260313
DTEND;VALUE=DATE:20260316
DTSTAMP:20260419T225704
CREATED:20260219T080943Z
LAST-MODIFIED:20260219T081137Z
UID:7606-1773360000-1773619199@www.hvu.si
SUMMARY:FLORA 2026
DESCRIPTION:Marčni sejmi FLORA in VRT 2026 bodo potekali od 13. do 15. marca 2026 na Celjskem sejmu. Med 9.00 in 18.00 uro bo dogodek združil ponudnike vrtne opreme\, cvetja\, sadik in krajinskega oblikovanja\, ponujal pa bo tudi strokovna predavanja\, delavnice in nasvete za urejanje zelenih kotičkov\, samooskrbo ter urbano čebelarstvo. \nNa sejmu bo naša šola imela razstavni prostor.\nLEPO VABLJENI
URL:https://www.hvu.si/event/flora-2026/
LOCATION:Celjski sejem
ATTACH;FMTTYPE=image/jpeg:https://www.hvu.si/wp-content/uploads/2026/02/flora.jpg
END:VEVENT
BEGIN:VEVENT
DTSTART;TZID=Europe/Ljubljana:20260324T163000
DTEND;TZID=Europe/Ljubljana:20260324T180000
DTSTAMP:20260419T225704
CREATED:20251008T084714Z
LAST-MODIFIED:20251023T072344Z
UID:7094-1774369800-1774375200@www.hvu.si
SUMMARY:Velikonočno spomladanska delavnica
DESCRIPTION:Velikonočno spomladanska delavnica* (izdelovanje butar\, dekor vhoda hiše\, velikonočni aranžma …). Torek\, 24. marec 2026\, 16.30 do 18.00 – delavnica je primerna tudi za otroke; Izvajalka: Veronika Cvetko.
URL:https://www.hvu.si/event/velikonocno-spomladanska-delavnica-7/
LOCATION:Šola za hortikulturo in vizualne umetnosti Celje\, Ljubljanska cesta 97\, Celje\, 3000\, Slovenija
ATTACH;FMTTYPE=image/jpeg:https://www.hvu.si/wp-content/uploads/2025/10/DSCF9514.jpg
END:VEVENT
END:VCALENDAR