BEGIN:VCALENDAR
VERSION:2.0
PRODID:-//Šola za hortikulturo in vizualne umetnosti Celje - ECPv6.15.17.1//NONSGML v1.0//EN
CALSCALE:GREGORIAN
METHOD:PUBLISH
X-WR-CALNAME:Šola za hortikulturo in vizualne umetnosti Celje
X-ORIGINAL-URL:https://www.hvu.si
X-WR-CALDESC:Dogodki za Šola za hortikulturo in vizualne umetnosti Celje
REFRESH-INTERVAL;VALUE=DURATION:PT1H
X-Robots-Tag:noindex
X-PUBLISHED-TTL:PT1H
BEGIN:VTIMEZONE
TZID:Europe/Ljubljana
BEGIN:DAYLIGHT
TZOFFSETFROM:+0100
TZOFFSETTO:+0200
TZNAME:CEST
DTSTART:20240331T010000
END:DAYLIGHT
BEGIN:STANDARD
TZOFFSETFROM:+0200
TZOFFSETTO:+0100
TZNAME:CET
DTSTART:20241027T010000
END:STANDARD
BEGIN:DAYLIGHT
TZOFFSETFROM:+0100
TZOFFSETTO:+0200
TZNAME:CEST
DTSTART:20250330T010000
END:DAYLIGHT
BEGIN:STANDARD
TZOFFSETFROM:+0200
TZOFFSETTO:+0100
TZNAME:CET
DTSTART:20251026T010000
END:STANDARD
BEGIN:DAYLIGHT
TZOFFSETFROM:+0100
TZOFFSETTO:+0200
TZNAME:CEST
DTSTART:20260329T010000
END:DAYLIGHT
BEGIN:STANDARD
TZOFFSETFROM:+0200
TZOFFSETTO:+0100
TZNAME:CET
DTSTART:20261025T010000
END:STANDARD
END:VTIMEZONE
BEGIN:VEVENT
DTSTART;VALUE=DATE:20251001
DTEND;VALUE=DATE:20251002
DTSTAMP:20260420T061643
CREATED:20251002T105219Z
LAST-MODIFIED:20251002T105219Z
UID:7036-1759276800-1759363199@www.hvu.si
SUMMARY:Športni dan - pohodništvo
DESCRIPTION:
URL:https://www.hvu.si/event/sportni-dan-pohodnistvo/
LOCATION:Celje in okolica
END:VEVENT
BEGIN:VEVENT
DTSTART;TZID=Europe/Ljubljana:20251007T163000
DTEND;TZID=Europe/Ljubljana:20251007T180000
DTSTAMP:20260420T061643
CREATED:20251001T114928Z
LAST-MODIFIED:20251001T115603Z
UID:6994-1759854600-1759860000@www.hvu.si
SUMMARY:Začetni in nadaljevalni tečaj aranžiranja in oblikovanja s cvetjem in zelenjem
DESCRIPTION:Začetni in nadaljevalni tečaj aranžiranja in oblikovanja s cvetjem in zelenjem I. (nagrobni aranžma\, dekoracija posameznega cveta). Torek\, 7. oktober 2025\, 16.30 do 18.00; Izvajalca: Matjaž Pustoslemšek\, Ana Sotošek.
URL:https://www.hvu.si/event/6994/
LOCATION:Šola za hortikulturo in vizualne umetnosti Celje\, Ljubljanska cesta 97\, Celje\, 3000\, Slovenija
ATTACH;FMTTYPE=image/avif:https://www.hvu.si/wp-content/uploads/2025/10/florist-making-beautiful-floral-bouquet_23-2148846490.avif
END:VEVENT
BEGIN:VEVENT
DTSTART;TZID=Europe/Ljubljana:20251007T163000
DTEND;TZID=Europe/Ljubljana:20251007T180000
DTSTAMP:20260420T061643
CREATED:20251002T071345Z
LAST-MODIFIED:20251002T071345Z
UID:7000-1759854600-1759860000@www.hvu.si
SUMMARY:Sonaravno jesensko urejanje okrasnega vrta
DESCRIPTION:Sonaravno jesensko urejanje okrasnega vrta* ( načrtovanje gredic\, vzimovanje vrtnic\, trajnic in ostalih okrasnih rastlin\, dosajevanje okrasnih rastlin). Torek\, 7. oktober 2025\, 16.30 do 18.00 – delavnica je primerna tudi za otroke; Izvajalca: Emil Špes\, Štefanija Kos Zidar.
URL:https://www.hvu.si/event/sonaravno-jesensko-urejanje-okrasnega-vrta-4/
LOCATION:Šola za hortikulturo in vizualne umetnosti Celje\, Ljubljanska cesta 97\, Celje\, 3000\, Slovenija
ATTACH;FMTTYPE=image/jpeg:https://www.hvu.si/wp-content/uploads/2025/10/P1080796a-scaled.jpg
END:VEVENT
BEGIN:VEVENT
DTSTART;TZID=Europe/Ljubljana:20251007T163000
DTEND;TZID=Europe/Ljubljana:20251007T180000
DTSTAMP:20260420T061643
CREATED:20251002T074101Z
LAST-MODIFIED:20251022T110617Z
UID:7003-1759854600-1759860000@www.hvu.si
SUMMARY:Sezonsko urejanje grobov
DESCRIPTION:Sezonsko urejanje grobov (načrtovanje\, zasajevanje in cvetlična dekoracija …). Torek\, 7. oktober 2025\, 16.30 do 18.00; Izvajalka: Romana Špes.
URL:https://www.hvu.si/event/sezonsko-urejanje-grobov-3/
LOCATION:Šola za hortikulturo in vizualne umetnosti Celje\, Ljubljanska cesta 97\, Celje\, 3000\, Slovenija
ATTACH;FMTTYPE=image/jpeg:https://www.hvu.si/wp-content/uploads/2025/10/IMG_20250713_110409.jpg
END:VEVENT
BEGIN:VEVENT
DTSTART;VALUE=DATE:20251009
DTEND;VALUE=DATE:20251011
DTSTAMP:20260420T061643
CREATED:20251002T092553Z
LAST-MODIFIED:20251002T092553Z
UID:7020-1759968000-1760140799@www.hvu.si
SUMMARY:Spoznavna dneva za dijake prvih letnikov
DESCRIPTION:
URL:https://www.hvu.si/event/spoznavna-dneva-za-dijake-prvih-letnikov/
LOCATION:Šola za hortikulturo in vizualne umetnosti Celje\, Ljubljanska cesta 97\, Celje\, 3000\, Slovenija
END:VEVENT
BEGIN:VEVENT
DTSTART;VALUE=DATE:20251009
DTEND;VALUE=DATE:20251011
DTSTAMP:20260420T061643
CREATED:20251002T092639Z
LAST-MODIFIED:20251002T092639Z
UID:7022-1759968000-1760140799@www.hvu.si
SUMMARY:Strokovne ekskurzije
DESCRIPTION:
URL:https://www.hvu.si/event/strokovne-ekskurzije-3/
LOCATION:Italija
END:VEVENT
BEGIN:VEVENT
DTSTART;VALUE=DATE:20251015
DTEND;VALUE=DATE:20251016
DTSTAMP:20260420T061643
CREATED:20251002T100611Z
LAST-MODIFIED:20251002T100643Z
UID:7033-1760486400-1760572799@www.hvu.si
SUMMARY:Dan ODPRTIH VRAT naše šole
DESCRIPTION:Vabimo vas na DAN ODPRTIH VRAT\, ki bo v sredo\, 15. oktobra 2025\, med 9.00 in 16.00. \nDelavnice bodo potekale ob 9.00\, 12.00 in 16.00.  \nNa ta dan lahko učenci\, učitelji\, starši in svetovalni delavci obiščete našo šolo. Za vas smo pripravili ustvarjalne brezplačne delavnice\, na katerih boste lahko aktivno sodelovali.
URL:https://www.hvu.si/event/dan-odprtih-vrat-nase-sole/
LOCATION:Šola za hortikulturo in vizualne umetnosti Celje\, Ljubljanska cesta 97\, Celje\, 3000\, Slovenija
ATTACH;FMTTYPE=image/jpeg:https://www.hvu.si/wp-content/uploads/2025/10/Dan-odprtih-vrat-1.jpg
END:VEVENT
BEGIN:VEVENT
DTSTART;VALUE=DATE:20251017
DTEND;VALUE=DATE:20251018
DTSTAMP:20260420T061643
CREATED:20251002T094959Z
LAST-MODIFIED:20251002T095830Z
UID:7024-1760659200-1760745599@www.hvu.si
SUMMARY:Ravnateljičin dan
DESCRIPTION:
URL:https://www.hvu.si/event/ravnateljicin-dan/
LOCATION:Več prizorišč
END:VEVENT
END:VCALENDAR