BEGIN:VCALENDAR
VERSION:2.0
PRODID:-//Šola za hortikulturo in vizualne umetnosti Celje - ECPv6.15.17.1//NONSGML v1.0//EN
CALSCALE:GREGORIAN
METHOD:PUBLISH
X-ORIGINAL-URL:https://www.hvu.si
X-WR-CALDESC:Dogodki za Šola za hortikulturo in vizualne umetnosti Celje
REFRESH-INTERVAL;VALUE=DURATION:PT1H
X-Robots-Tag:noindex
X-PUBLISHED-TTL:PT1H
BEGIN:VTIMEZONE
TZID:Europe/Ljubljana
BEGIN:DAYLIGHT
TZOFFSETFROM:+0100
TZOFFSETTO:+0200
TZNAME:CEST
DTSTART:20240331T010000
END:DAYLIGHT
BEGIN:STANDARD
TZOFFSETFROM:+0200
TZOFFSETTO:+0100
TZNAME:CET
DTSTART:20241027T010000
END:STANDARD
BEGIN:DAYLIGHT
TZOFFSETFROM:+0100
TZOFFSETTO:+0200
TZNAME:CEST
DTSTART:20250330T010000
END:DAYLIGHT
BEGIN:STANDARD
TZOFFSETFROM:+0200
TZOFFSETTO:+0100
TZNAME:CET
DTSTART:20251026T010000
END:STANDARD
BEGIN:DAYLIGHT
TZOFFSETFROM:+0100
TZOFFSETTO:+0200
TZNAME:CEST
DTSTART:20260329T010000
END:DAYLIGHT
BEGIN:STANDARD
TZOFFSETFROM:+0200
TZOFFSETTO:+0100
TZNAME:CET
DTSTART:20261025T010000
END:STANDARD
END:VTIMEZONE
BEGIN:VEVENT
DTSTART;TZID=Europe/Ljubljana:20250401T160000
DTEND;TZID=Europe/Ljubljana:20250401T173000
DTSTAMP:20260422T155136
CREATED:20241002T074342Z
LAST-MODIFIED:20241002T074354Z
UID:6210-1743523200-1743528600@www.hvu.si
SUMMARY:Fotografska delavnica »Štirje letni časi – pomlad
DESCRIPTION:Fotografska delavnica »Štirje letni časi – pomlad«. Torek\, 1. april 2025\, 16.00 do 17.30; Izvajalec: Mitja Zupanc.
URL:https://www.hvu.si/event/fotografska-delavnica-stirje-letni-casi-pomlad-4/
LOCATION:Šola za hortikulturo in vizualne umetnosti Celje\, Ljubljanska cesta 97\, Celje\, 3000\, Slovenija
END:VEVENT
BEGIN:VEVENT
DTSTART;TZID=Europe/Ljubljana:20250401T163000
DTEND;TZID=Europe/Ljubljana:20250401T180000
DTSTAMP:20260422T155136
CREATED:20241002T074130Z
LAST-MODIFIED:20241002T074130Z
UID:6206-1743525000-1743530400@www.hvu.si
SUMMARY:Balkonske cvetje in zelenje – trendi v zasaditvah pomlad 2025
DESCRIPTION:Balkonske cvetje in zelenje – trendi v zasaditvah pomlad 2025* (izbor rastlin\, novosti v zasajanju\, oskrba balkonskega cvetja …). Torek\, 1. april 2025\, 16.30 do 18.00. Izvajalka: Štefanija Kos Zidar.
URL:https://www.hvu.si/event/balkonske-cvetje-in-zelenje-trendi-v-zasaditvah-pomlad-2025/
LOCATION:Šola za hortikulturo in vizualne umetnosti Celje\, Ljubljanska cesta 97\, Celje\, 3000\, Slovenija
END:VEVENT
BEGIN:VEVENT
DTSTART;TZID=Europe/Ljubljana:20250401T163000
DTEND;TZID=Europe/Ljubljana:20250401T180000
DTSTAMP:20260422T155136
CREATED:20241002T074237Z
LAST-MODIFIED:20241002T074237Z
UID:6208-1743525000-1743530400@www.hvu.si
SUMMARY:Vrtnice in žive meje ter nega vrtne trate
DESCRIPTION:Vrtnice in žive meje ter nega vrtne trate (izbor rastlin\, sajenje\, obrezovanje\, dognojevanje\, pleveli\, košnja\,  …)\, Torek\, 1. april 2025\, 16.30 do 18.00. Izvajalca: Emil in Romana Špes.
URL:https://www.hvu.si/event/vrtnice-in-zive-meje-ter-nega-vrtne-trate/
LOCATION:Šola za hortikulturo in vizualne umetnosti Celje\, Ljubljanska cesta 97\, Celje\, 3000\, Slovenija
END:VEVENT
BEGIN:VEVENT
DTSTART;TZID=Europe/Ljubljana:20250408T163000
DTEND;TZID=Europe/Ljubljana:20250408T180000
DTSTAMP:20260422T155136
CREATED:20241002T074449Z
LAST-MODIFIED:20241002T074449Z
UID:6212-1744129800-1744135200@www.hvu.si
SUMMARY:Velikonočno spomladanska delavnica
DESCRIPTION:Velikonočno spomladanska delavnica* (izdelovanje butar\, dekor vhoda hiše\, velikonočni aranžma …). Torek\, 8. april 2025\, 16.30 do 18.00 – delavnica je primerna tudi za otroke; Izvajalka: Veronika Cvetko.
URL:https://www.hvu.si/event/velikonocno-spomladanska-delavnica-5/
LOCATION:Šola za hortikulturo in vizualne umetnosti Celje\, Ljubljanska cesta 97\, Celje\, 3000\, Slovenija
END:VEVENT
END:VCALENDAR