BEGIN:VCALENDAR
VERSION:2.0
PRODID:-//Šola za hortikulturo in vizualne umetnosti Celje - ECPv6.15.17.1//NONSGML v1.0//EN
CALSCALE:GREGORIAN
METHOD:PUBLISH
X-ORIGINAL-URL:https://www.hvu.si
X-WR-CALDESC:Dogodki za Šola za hortikulturo in vizualne umetnosti Celje
REFRESH-INTERVAL;VALUE=DURATION:PT1H
X-Robots-Tag:noindex
X-PUBLISHED-TTL:PT1H
BEGIN:VTIMEZONE
TZID:Europe/Ljubljana
BEGIN:DAYLIGHT
TZOFFSETFROM:+0100
TZOFFSETTO:+0200
TZNAME:CEST
DTSTART:20240331T010000
END:DAYLIGHT
BEGIN:STANDARD
TZOFFSETFROM:+0200
TZOFFSETTO:+0100
TZNAME:CET
DTSTART:20241027T010000
END:STANDARD
BEGIN:DAYLIGHT
TZOFFSETFROM:+0100
TZOFFSETTO:+0200
TZNAME:CEST
DTSTART:20250330T010000
END:DAYLIGHT
BEGIN:STANDARD
TZOFFSETFROM:+0200
TZOFFSETTO:+0100
TZNAME:CET
DTSTART:20251026T010000
END:STANDARD
BEGIN:DAYLIGHT
TZOFFSETFROM:+0100
TZOFFSETTO:+0200
TZNAME:CEST
DTSTART:20260329T010000
END:DAYLIGHT
BEGIN:STANDARD
TZOFFSETFROM:+0200
TZOFFSETTO:+0100
TZNAME:CET
DTSTART:20261025T010000
END:STANDARD
END:VTIMEZONE
BEGIN:VEVENT
DTSTART;TZID=Europe/Ljubljana:20250114T150000
DTEND;TZID=Europe/Ljubljana:20250114T163000
DTSTAMP:20260422T204222
CREATED:20241001T101322Z
LAST-MODIFIED:20241003T104450Z
UID:6191-1736866800-1736872200@www.hvu.si
SUMMARY:Fotografska delavnica »Štirje letni časi – zima
DESCRIPTION:Fotografska delavnica »Štirje letni časi – zima«. Torek\, 14. januar 2025\, 15.00 do 16.30; Izvajalec: Mitja Zupanc.
URL:https://www.hvu.si/event/fotografska-delavnica-stirje-letni-casi-zima-3/
LOCATION:Šola za hortikulturo in vizualne umetnosti Celje\, Ljubljanska cesta 97\, Celje\, 3000\, Slovenija
ATTACH;FMTTYPE=image/jpeg:https://www.hvu.si/wp-content/uploads/2024/10/1639032576454.jpg
END:VEVENT
BEGIN:VEVENT
DTSTART;TZID=Europe/Ljubljana:20250114T163000
DTEND;TZID=Europe/Ljubljana:20250114T180000
DTSTAMP:20260422T204222
CREATED:20241001T101034Z
LAST-MODIFIED:20241001T101034Z
UID:6187-1736872200-1736877600@www.hvu.si
SUMMARY:Zasnova permakulturnega vrta
DESCRIPTION:Zasnova permakulturnega vrta* (zasnova\, izbor primernih rastlin\, združba rastlin po kriterijih – barva\, oblika\, struktura\, lega  …). Torek\, 14. januar 2025\, 16.30 do 18.00 – delavnica je primerna tudi za otroke; Izvajalka: Štefanija Kos Zidar.
URL:https://www.hvu.si/event/zasnova-permakulturnega-vrta-5/
LOCATION:Šola za hortikulturo in vizualne umetnosti Celje\, Ljubljanska cesta 97\, Celje\, 3000\, Slovenija
END:VEVENT
BEGIN:VEVENT
DTSTART;TZID=Europe/Ljubljana:20250114T163000
DTEND;TZID=Europe/Ljubljana:20250114T180000
DTSTAMP:20260422T204222
CREATED:20241001T101143Z
LAST-MODIFIED:20241003T104702Z
UID:6189-1736872200-1736877600@www.hvu.si
SUMMARY:Medonosne rastline v okolici čebelnjaka
DESCRIPTION:Medonosne rastline v okolici čebelnjaka (izbor\, sajenje in oskrba medonosnih rastlin). Torek\, 14. januar 2025\, 16.30 do 18.00; Izvajalca: Sergej Kos.
URL:https://www.hvu.si/event/medonosne-rastline-v-okolici-cebelnjaka-10/
LOCATION:Šola za hortikulturo in vizualne umetnosti Celje\, Ljubljanska cesta 97\, Celje\, 3000\, Slovenija
ATTACH;FMTTYPE=image/jpeg:https://www.hvu.si/wp-content/uploads/2024/10/P1070365.jpg
END:VEVENT
END:VCALENDAR