BEGIN:VCALENDAR
VERSION:2.0
PRODID:-//Šola za hortikulturo in vizualne umetnosti Celje - ECPv6.15.17.1//NONSGML v1.0//EN
CALSCALE:GREGORIAN
METHOD:PUBLISH
X-ORIGINAL-URL:https://www.hvu.si
X-WR-CALDESC:Dogodki za Šola za hortikulturo in vizualne umetnosti Celje
REFRESH-INTERVAL;VALUE=DURATION:PT1H
X-Robots-Tag:noindex
X-PUBLISHED-TTL:PT1H
BEGIN:VTIMEZONE
TZID:Europe/Ljubljana
BEGIN:DAYLIGHT
TZOFFSETFROM:+0100
TZOFFSETTO:+0200
TZNAME:CEST
DTSTART:20230326T010000
END:DAYLIGHT
BEGIN:STANDARD
TZOFFSETFROM:+0200
TZOFFSETTO:+0100
TZNAME:CET
DTSTART:20231029T010000
END:STANDARD
BEGIN:DAYLIGHT
TZOFFSETFROM:+0100
TZOFFSETTO:+0200
TZNAME:CEST
DTSTART:20240331T010000
END:DAYLIGHT
BEGIN:STANDARD
TZOFFSETFROM:+0200
TZOFFSETTO:+0100
TZNAME:CET
DTSTART:20241027T010000
END:STANDARD
BEGIN:DAYLIGHT
TZOFFSETFROM:+0100
TZOFFSETTO:+0200
TZNAME:CEST
DTSTART:20250330T010000
END:DAYLIGHT
BEGIN:STANDARD
TZOFFSETFROM:+0200
TZOFFSETTO:+0100
TZNAME:CET
DTSTART:20251026T010000
END:STANDARD
END:VTIMEZONE
BEGIN:VEVENT
DTSTART;TZID=Europe/Ljubljana:20241203T163000
DTEND;TZID=Europe/Ljubljana:20241203T180000
DTSTAMP:20260422T220903
CREATED:20241001T100252Z
LAST-MODIFIED:20241003T102716Z
UID:6183-1733243400-1733248800@www.hvu.si
SUMMARY:Božično – novoletna delavnica
DESCRIPTION:Božično – novoletna delavnica* (dekor vhoda hiše\, praznični namizni aranžma\, dekoracija prazničnega darila\, simbolika zimskega cvetja in zelenja). Torek\, 3. december 2024\, 16.30 do 18.00 – delavnica je primerna tudi za otroke; Izvajalka: Ana Sotošek.
URL:https://www.hvu.si/event/bozicno-novoletna-delavnica-5/
LOCATION:Šola za hortikulturo in vizualne umetnosti Celje\, Ljubljanska cesta 97\, Celje\, 3000\, Slovenija
ATTACH;FMTTYPE=image/jpeg:https://www.hvu.si/wp-content/uploads/2024/10/pomanjsana_slike-hodnik-2020.jpg
END:VEVENT
BEGIN:VEVENT
DTSTART;TZID=Europe/Ljubljana:20241203T163000
DTEND;TZID=Europe/Ljubljana:20241203T180000
DTSTAMP:20260422T220903
CREATED:20241001T100428Z
LAST-MODIFIED:20241002T113022Z
UID:6185-1733243400-1733248800@www.hvu.si
SUMMARY:Panjske končnice v ljudskem izročilu
DESCRIPTION:Panjske končnice v ljudskem izročilu (risanje na panjske končnice). Torek\, 3. december 2024\, 16.30 do 18.00; Izvajalka: Danica Korošec.
URL:https://www.hvu.si/event/panjske-koncnice-v-ljudskem-izrocilu-5/
LOCATION:Šola za hortikulturo in vizualne umetnosti Celje\, Ljubljanska cesta 97\, Celje\, 3000\, Slovenija
ATTACH;FMTTYPE=image/jpeg:https://www.hvu.si/wp-content/uploads/2024/10/IMG_20190401_140019-scaled.jpg
END:VEVENT
END:VCALENDAR