BEGIN:VCALENDAR
VERSION:2.0
PRODID:-//Šola za hortikulturo in vizualne umetnosti Celje - ECPv6.15.17.1//NONSGML v1.0//EN
CALSCALE:GREGORIAN
METHOD:PUBLISH
X-WR-CALNAME:Šola za hortikulturo in vizualne umetnosti Celje
X-ORIGINAL-URL:https://www.hvu.si
X-WR-CALDESC:Dogodki za Šola za hortikulturo in vizualne umetnosti Celje
REFRESH-INTERVAL;VALUE=DURATION:PT1H
X-Robots-Tag:noindex
X-PUBLISHED-TTL:PT1H
BEGIN:VTIMEZONE
TZID:Europe/Ljubljana
BEGIN:DAYLIGHT
TZOFFSETFROM:+0100
TZOFFSETTO:+0200
TZNAME:CEST
DTSTART:20230326T010000
END:DAYLIGHT
BEGIN:STANDARD
TZOFFSETFROM:+0200
TZOFFSETTO:+0100
TZNAME:CET
DTSTART:20231029T010000
END:STANDARD
BEGIN:DAYLIGHT
TZOFFSETFROM:+0100
TZOFFSETTO:+0200
TZNAME:CEST
DTSTART:20240331T010000
END:DAYLIGHT
BEGIN:STANDARD
TZOFFSETFROM:+0200
TZOFFSETTO:+0100
TZNAME:CET
DTSTART:20241027T010000
END:STANDARD
BEGIN:DAYLIGHT
TZOFFSETFROM:+0100
TZOFFSETTO:+0200
TZNAME:CEST
DTSTART:20250330T010000
END:DAYLIGHT
BEGIN:STANDARD
TZOFFSETFROM:+0200
TZOFFSETTO:+0100
TZNAME:CET
DTSTART:20251026T010000
END:STANDARD
END:VTIMEZONE
BEGIN:VEVENT
DTSTART;VALUE=DATE:20240925
DTEND;VALUE=DATE:20240926
DTSTAMP:20260423T032234
CREATED:20241002T080904Z
LAST-MODIFIED:20241002T080904Z
UID:6236-1727222400-1727308799@www.hvu.si
SUMMARY:1. Športni dan
DESCRIPTION:Pohodi po Celju in okolici.
URL:https://www.hvu.si/event/1-sportni-dan-2/
LOCATION:Celje in okolica
END:VEVENT
END:VCALENDAR